BEGIN:VCALENDAR
VERSION:2.0
PRODID:-//wp-events-plugin.com//6.4.7.3//EN
TZID:Europe/Paris
X-WR-TIMEZONE:Europe/Paris
BEGIN:VEVENT
UID:15@francasnormandie.fr
DTSTART;TZID=Europe/Paris:20251013T083000
DTEND;TZID=Europe/Paris:20270226T123000
DTSTAMP:20250629T184044Z
URL:https://francasnormandie.fr/formations/bpjeps-asec/
SUMMARY:BPJEPS ASEC
DESCRIPTION:BREVET PROFESSIONNEL DE LA JEUNESSE\, DE L’ÉDUCATION POPULAI
 RE ET DU SPORT – NIVEAU 4 – RNCP 39926\nMENTION : Animation Socio-Educ
 ative ou Culturelle (ASEC) SPECIALITE: Animateur\n\nNuméro habilitation :
  25NORHABBPBC0013\n\nLe Brevet professionnel de la jeunesse\, de l’Éduc
 ation populaire et du sport est un diplôme de niveau 4 délivré par le M
 inistère de la Jeunesse et des Sports. Il atteste de la possession des co
 mpétences professionnelles indispensables pour exercer le métier d’ani
 mateur dans une structure de loisirs\, socio-éducative ou culturelle (Acc
 ueil de loisirs\, maison de quartier\, centre culturel\,etc.).\n\nNos form
 ations BPJEPS A.S.E.C visent à former des animateur·ices qui inscrivent 
 leurs actions dans le cadre de l’éducation populaire. Ces animateur·ic
 es\, grâce à une connaissance approfondie de leurs publics et des techni
 ques d’animation\, seront capables d’initier et de faire émerger des 
 projets liés à la vie locale.\n\nFormation alternant des périodes en st
 ructure de formation et en structure d'alternance\n\nPrésence en structur
 e de formation : lundi / mardi / jeudi / vendredi de 8h30 à 12h30\n\nInsc
 ription date maximum : 11 septembre 2025\n\nTest de sélection : 31 juille
 t et/ou 5 septembre 2025\n\nInscription et informations : secretariat@fran
 cashdf.fr / 03 44 15 56 96\n\n\n\n&nbsp\;\nPlaquette BPJEPS CALVADOS 2025 
 2027\nDossier inscription BPJEPS Calvados 2025 2027\n&nbsp\;
ATTACH;FMTTYPE=image/jpeg:https://francasnormandie.fr/wp-content/uploads/2
 025/05/encart-actualite-bpjeps.png
CATEGORIES:BPJEPS
LOCATION:Hérouville Saint Clair\, 320 Le Val\, Hérouville Saint Clair\, C
 alvados\, 14200 \, Normandie\, France
X-APPLE-STRUCTURED-LOCATION;VALUE=URI;X-ADDRESS=320 Le Val\, Hérouville Sa
 int Clair\, Calvados\, 14200 \, Normandie\, France;X-APPLE-RADIUS=100;X-TI
 TLE=Hérouville Saint Clair:geo:0,0
END:VEVENT
BEGIN:VTIMEZONE
TZID:Europe/Paris
X-LIC-LOCATION:Europe/Paris
BEGIN:DAYLIGHT
DTSTART:20250330T030000
TZOFFSETFROM:+0100
TZOFFSETTO:+0200
TZNAME:CEST
END:DAYLIGHT
BEGIN:STANDARD
DTSTART:20251026T020000
TZOFFSETFROM:+0200
TZOFFSETTO:+0100
TZNAME:CET
END:STANDARD
BEGIN:DAYLIGHT
DTSTART:20260329T030000
TZOFFSETFROM:+0100
TZOFFSETTO:+0200
TZNAME:CEST
END:DAYLIGHT
BEGIN:STANDARD
DTSTART:20261025T020000
TZOFFSETFROM:+0200
TZOFFSETTO:+0100
TZNAME:CET
END:STANDARD
END:VTIMEZONE
END:VCALENDAR